BEGIN:VCALENDAR
VERSION:2.0
PRODID:-//Irish Broker Magazine - ECPv4.5.12.2//NONSGML v1.0//EN
CALSCALE:GREGORIAN
METHOD:PUBLISH
X-WR-CALNAME:Irish Broker Magazine
X-ORIGINAL-URL:http://irishbroker.ie
X-WR-CALDESC:Events for Irish Broker Magazine
BEGIN:VEVENT
DTSTART;TZID=Europe/Dublin:20170920T080000
DTEND;TZID=Europe/Dublin:20170920T170000
DTSTAMP:20171106T154604
CREATED:20170104T154842Z
LAST-MODIFIED:20170116T103742Z
UID:3771-1505894400-1505926800@irishbroker.ie
SUMMARY:Advertising Copy Deadline – October Edition
DESCRIPTION:Compliance to our copy deadlines is key and enables us to fulfill  the shelf-life of each issue. \n
URL:http://irishbroker.ie/date/advertising-copy-deadline-october-edition/
CATEGORIES:Advertising
ATTACH;FMTTYPE=image/jpeg:http://irishbroker.ie/wp-content/uploads/2017/01/Advertising-1.jpg
ORGANIZER;CN="Paul%20Gibson":MAILTO:paul@irishbroker.ie
END:VEVENT
END:VCALENDAR