BEGIN:VCALENDAR
VERSION:2.0
PRODID:-//Irish Broker Magazine - ECPv4.5.12.2//NONSGML v1.0//EN
CALSCALE:GREGORIAN
METHOD:PUBLISH
X-WR-CALNAME:Irish Broker Magazine
X-ORIGINAL-URL:http://irishbroker.ie
X-WR-CALDESC:Events for Irish Broker Magazine
BEGIN:VEVENT
DTSTART;TZID=Europe/Dublin:20170915T080000
DTEND;TZID=Europe/Dublin:20170915T170000
DTSTAMP:20171106T154500
CREATED:20170104T153050Z
LAST-MODIFIED:20170116T103819Z
UID:3738-1505462400-1505494800@irishbroker.ie
SUMMARY:Editorial Copy Deadline – October Edition
DESCRIPTION:Compliance to our copy deadlines is key and enables us to fulfill  the shelf-life of each issue. \n
URL:http://irishbroker.ie/date/editorial-copy-deadline-october-edition/
CATEGORIES:Editorial
ATTACH;FMTTYPE=image/jpeg:http://irishbroker.ie/wp-content/uploads/2017/01/Editorial-1.jpg
ORGANIZER;CN="Paul%20Gibson":MAILTO:paul@irishbroker.ie
END:VEVENT
END:VCALENDAR