BEGIN:VCALENDAR
VERSION:2.0
PRODID:-//Irish Broker Magazine - ECPv4.5.12.2//NONSGML v1.0//EN
CALSCALE:GREGORIAN
METHOD:PUBLISH
X-WR-CALNAME:Irish Broker Magazine
X-ORIGINAL-URL:http://irishbroker.ie
X-WR-CALDESC:Events for Irish Broker Magazine
BEGIN:VEVENT
DTSTART;VALUE=DATE:20170904
DTEND;VALUE=DATE:20170904
DTSTAMP:20171106T154337
CREATED:20170125T104544Z
LAST-MODIFIED:20170125T105222Z
UID:4619-1504483200-1504569599@irishbroker.ie
SUMMARY:Start of IBA Regional meetings
DESCRIPTION:Start of IBA Regional meetings \n
URL:http://irishbroker.ie/date/start-of-iba-regional-meetings/
CATEGORIES:IBA Events
ATTACH;FMTTYPE=image/jpeg:http://irishbroker.ie/wp-content/uploads/2017/01/irish-broker2.jpg
END:VEVENT
END:VCALENDAR