BEGIN:VCALENDAR
VERSION:2.0
PRODID:-//Irish Broker Magazine - ECPv4.5.12.2//NONSGML v1.0//EN
CALSCALE:GREGORIAN
METHOD:PUBLISH
X-WR-CALNAME:Irish Broker Magazine
X-ORIGINAL-URL:http://irishbroker.ie
X-WR-CALDESC:Events for Irish Broker Magazine
BEGIN:VEVENT
DTSTART;TZID=Europe/Dublin:20171016T080000
DTEND;TZID=Europe/Dublin:20171016T170000
DTSTAMP:20171024T030543
CREATED:20170104T153140Z
LAST-MODIFIED:20170116T103701Z
UID:3741-1508140800-1508173200@irishbroker.ie
SUMMARY:Editorial Copy Deadline –November Edition
DESCRIPTION:Compliance to our copy deadlines is key and enables us to fulfill  the shelf-life of each issue. \n
URL:http://irishbroker.ie/date/editorial-copy-deadline-november-edition/
CATEGORIES:Editorial
ATTACH;FMTTYPE=image/jpeg:http://irishbroker.ie/wp-content/uploads/2017/01/Editorial-1.jpg
ORGANIZER;CN="Paul%20Gibson":MAILTO:paul@irishbroker.ie
END:VEVENT
BEGIN:VEVENT
DTSTART;VALUE=DATE:20171019
DTEND;VALUE=DATE:20171019
DTSTAMP:20171024T030543
CREATED:20170125T104820Z
LAST-MODIFIED:20170125T105211Z
UID:4621-1508371200-1508457599@irishbroker.ie
SUMMARY:IBA Annual Lunch & MyIBA Broker Awards
DESCRIPTION:IBA Annual Lunch & MyIBA Broker Awards \n
URL:http://irishbroker.ie/date/iba-annual-lunch-myiba-broker-awards/
CATEGORIES:IBA Events
ATTACH;FMTTYPE=image/jpeg:http://irishbroker.ie/wp-content/uploads/2017/01/ibamyiba-logos.jpg
END:VEVENT
BEGIN:VEVENT
DTSTART;TZID=Europe/Dublin:20171020T080000
DTEND;TZID=Europe/Dublin:20171020T170000
DTSTAMP:20171024T030543
CREATED:20170104T154944Z
LAST-MODIFIED:20170116T103406Z
UID:3774-1508486400-1508518800@irishbroker.ie
SUMMARY:Advertising Copy Deadline – November Edition
DESCRIPTION:Compliance to our copy deadlines is key and enables us to fulfill  the shelf-life of each issue. \n
URL:http://irishbroker.ie/date/advertising-copy-deadline-november-edition/
CATEGORIES:Advertising
ATTACH;FMTTYPE=image/jpeg:http://irishbroker.ie/wp-content/uploads/2017/01/Advertising-1.jpg
ORGANIZER;CN="Paul%20Gibson":MAILTO:paul@irishbroker.ie
END:VEVENT
END:VCALENDAR